BEGIN:VCALENDAR
VERSION:2.0
PRODID:-//Methodist Church of Southern Africa - ECPv6.15.17.1//NONSGML v1.0//EN
CALSCALE:GREGORIAN
METHOD:PUBLISH
X-WR-CALNAME:Methodist Church of Southern Africa
X-ORIGINAL-URL:https://methodist.org.za
X-WR-CALDESC:Events for Methodist Church of Southern Africa
REFRESH-INTERVAL;VALUE=DURATION:PT1H
X-Robots-Tag:noindex
X-PUBLISHED-TTL:PT1H
BEGIN:VTIMEZONE
TZID:Africa/Johannesburg
BEGIN:STANDARD
TZOFFSETFROM:+0200
TZOFFSETTO:+0200
TZNAME:SAST
DTSTART:20220101T000000
END:STANDARD
END:VTIMEZONE
BEGIN:VEVENT
DTSTART;TZID=Africa/Johannesburg:20230319T000000
DTEND;TZID=Africa/Johannesburg:20230326T120000
DTSTAMP:20260421T181851
CREATED:20230309T233803Z
LAST-MODIFIED:20230309T233803Z
UID:4731-1679184000-1679832000@methodist.org.za
SUMMARY:Lent 4
DESCRIPTION:1 Samuel 16:1-13 \nPsalm 23 \nEphesians 5:8-14 \nJohn 9:1-41
URL:https://methodist.org.za/index.php/event/lent-4/
LOCATION:MCSA
CATEGORIES:Season of Lent
END:VEVENT
BEGIN:VEVENT
DTSTART;TZID=Africa/Johannesburg:20230312T000000
DTEND;TZID=Africa/Johannesburg:20230326T120000
DTSTAMP:20260421T181851
CREATED:20230309T233654Z
LAST-MODIFIED:20230309T233654Z
UID:4728-1678579200-1679832000@methodist.org.za
SUMMARY:Lent 3
DESCRIPTION:Exodus 17:1-7 \nPsalm 95 \nRomans 5:1-11 \nJohn 4:5-42
URL:https://methodist.org.za/index.php/event/lent-3/
CATEGORIES:Season of Lent
END:VEVENT
END:VCALENDAR