BEGIN:VCALENDAR
VERSION:2.0
PRODID:-//Methodist Church of Southern Africa - ECPv6.15.17.1//NONSGML v1.0//EN
CALSCALE:GREGORIAN
METHOD:PUBLISH
X-WR-CALNAME:Methodist Church of Southern Africa
X-ORIGINAL-URL:https://methodist.org.za
X-WR-CALDESC:Events for Methodist Church of Southern Africa
REFRESH-INTERVAL;VALUE=DURATION:PT1H
X-Robots-Tag:noindex
X-PUBLISHED-TTL:PT1H
BEGIN:VTIMEZONE
TZID:Africa/Johannesburg
BEGIN:STANDARD
TZOFFSETFROM:+0200
TZOFFSETTO:+0200
TZNAME:SAST
DTSTART:20220101T000000
END:STANDARD
END:VTIMEZONE
BEGIN:VEVENT
DTSTART;VALUE=DATE:20231028
DTEND;VALUE=DATE:20231029
DTSTAMP:20260421T130921
CREATED:20231019T185910Z
LAST-MODIFIED:20231019T185910Z
UID:5820-1698451200-1698537599@methodist.org.za
SUMMARY:Revision Committee Meeting
DESCRIPTION:
URL:https://methodist.org.za/index.php/event/revision-committee-meeting-2/
LOCATION:Eswatini
END:VEVENT
BEGIN:VEVENT
DTSTART;TZID=Africa/Johannesburg:20231026T080000
DTEND;TZID=Africa/Johannesburg:20231026T170000
DTSTAMP:20260421T130921
CREATED:20231019T185815Z
LAST-MODIFIED:20231019T185815Z
UID:5818-1698307200-1698339600@methodist.org.za
SUMMARY:Revision Committee Meeting
DESCRIPTION:
URL:https://methodist.org.za/index.php/event/revision-committee-meeting/
LOCATION:Virtual
END:VEVENT
BEGIN:VEVENT
DTSTART;VALUE=DATE:20231026
DTEND;VALUE=DATE:20231030
DTSTAMP:20260421T130921
CREATED:20231019T190214Z
LAST-MODIFIED:20231019T190214Z
UID:5826-1698278400-1698623999@methodist.org.za
SUMMARY:Young Women’s Manyano CCS Workshop
DESCRIPTION:
URL:https://methodist.org.za/index.php/event/young-womens-manyano-ccs-workshop/
LOCATION:Mozambique
END:VEVENT
BEGIN:VEVENT
DTSTART;VALUE=DATE:20231026
DTEND;VALUE=DATE:20231030
DTSTAMP:20260421T130921
CREATED:20231019T190120Z
LAST-MODIFIED:20231019T190120Z
UID:5823-1698278400-1698623999@methodist.org.za
SUMMARY:Women’s Manyano District Presidents Retreat
DESCRIPTION:
URL:https://methodist.org.za/index.php/event/womens-manyano-district-presidents-retreat/
LOCATION:Kumkani Hinsa District
END:VEVENT
BEGIN:VEVENT
DTSTART;TZID=Africa/Johannesburg:20231025T170000
DTEND;TZID=Africa/Johannesburg:20231025T210000
DTSTAMP:20260421T130921
CREATED:20231019T185656Z
LAST-MODIFIED:20231019T185656Z
UID:5814-1698253200-1698267600@methodist.org.za
SUMMARY:Mission Co-ordinators Meeting
DESCRIPTION:
URL:https://methodist.org.za/index.php/event/mission-co-ordinators-meeting/
LOCATION:Virtual
END:VEVENT
BEGIN:VEVENT
DTSTART;VALUE=DATE:20231025
DTEND;VALUE=DATE:20231026
DTSTAMP:20260421T130921
CREATED:20231019T185720Z
LAST-MODIFIED:20231019T185720Z
UID:5816-1698192000-1698278399@methodist.org.za
SUMMARY:Structures Committee Meeting
DESCRIPTION:
URL:https://methodist.org.za/index.php/event/structures-committee-meeting/
LOCATION:Virtual
END:VEVENT
BEGIN:VEVENT
DTSTART;TZID=Africa/Johannesburg:20231024T080000
DTEND;TZID=Africa/Johannesburg:20231024T170000
DTSTAMP:20260421T130921
CREATED:20231019T185508Z
LAST-MODIFIED:20231019T185508Z
UID:5811-1698134400-1698166800@methodist.org.za
SUMMARY:MCO Unit Leaders Meeting
DESCRIPTION:
URL:https://methodist.org.za/index.php/event/mco-unit-leaders-meeting/
LOCATION:MCO/Virtual
END:VEVENT
BEGIN:VEVENT
DTSTART;VALUE=DATE:20231024
DTEND;VALUE=DATE:20231025
DTSTAMP:20260421T130921
CREATED:20231019T185318Z
LAST-MODIFIED:20231019T185318Z
UID:5807-1698105600-1698191999@methodist.org.za
SUMMARY:Connexional Committee on Chaplaincy Meeting
DESCRIPTION:
URL:https://methodist.org.za/index.php/event/connexional-committee-on-chaplaincy-meeting/
LOCATION:Virtual
END:VEVENT
BEGIN:VEVENT
DTSTART;VALUE=DATE:20231020
DTEND;VALUE=DATE:20231023
DTSTAMP:20260421T130921
CREATED:20231019T185249Z
LAST-MODIFIED:20231019T185249Z
UID:5805-1697760000-1698019199@methodist.org.za
SUMMARY:Local Preachers Association Evangelical Revival
DESCRIPTION:
URL:https://methodist.org.za/index.php/event/local-preachers-association-evangelical-revival/
END:VEVENT
BEGIN:VEVENT
DTSTART;VALUE=DATE:20231020
DTEND;VALUE=DATE:20231021
DTSTAMP:20260421T130921
CREATED:20231019T185133Z
LAST-MODIFIED:20231019T185133Z
UID:5803-1697760000-1697846399@methodist.org.za
SUMMARY:Clarkebury Boundaries Meeting
DESCRIPTION:
URL:https://methodist.org.za/index.php/event/clarkebury-boundaries-meeting/
END:VEVENT
BEGIN:VEVENT
DTSTART;VALUE=DATE:20231016
DTEND;VALUE=DATE:20231020
DTSTAMP:20260421T130921
CREATED:20231019T185022Z
LAST-MODIFIED:20231019T185022Z
UID:5801-1697414400-1697759999@methodist.org.za
SUMMARY:Order of Evangelism Training
DESCRIPTION:
URL:https://methodist.org.za/index.php/event/order-of-evangelism-training/
LOCATION:eMseni
END:VEVENT
BEGIN:VEVENT
DTSTART;VALUE=DATE:20230930
DTEND;VALUE=DATE:20231001
DTSTAMP:20260421T130921
CREATED:20230921T193955Z
LAST-MODIFIED:20230921T193955Z
UID:5734-1696032000-1696118399@methodist.org.za
SUMMARY:Connexional Women’s Fellowship Youth Summit
DESCRIPTION:
URL:https://methodist.org.za/index.php/event/connexional-womens-fellowship-youth-summit/
LOCATION:Virtual
END:VEVENT
BEGIN:VEVENT
DTSTART;VALUE=DATE:20230927
DTEND;VALUE=DATE:20230928
DTSTAMP:20260421T130921
CREATED:20230921T193917Z
LAST-MODIFIED:20230921T193917Z
UID:5732-1695772800-1695859199@methodist.org.za
SUMMARY:Mission Coordinators Meeting
DESCRIPTION:
URL:https://methodist.org.za/index.php/event/mission-coordinators-meeting-2/
END:VEVENT
BEGIN:VEVENT
DTSTART;VALUE=DATE:20230924
DTEND;VALUE=DATE:20230925
DTSTAMP:20260421T130921
CREATED:20230921T193656Z
LAST-MODIFIED:20230921T193657Z
UID:5729-1695513600-1695599999@methodist.org.za
SUMMARY:MCSA Ordination Service
DESCRIPTION:
URL:https://methodist.org.za/index.php/event/mcsa-ordination-service/
LOCATION:Kumkani Hinsa
END:VEVENT
BEGIN:VEVENT
DTSTART;VALUE=DATE:20230924
DTEND;VALUE=DATE:20230925
DTSTAMP:20260421T130921
CREATED:20230921T193041Z
LAST-MODIFIED:20230921T193041Z
UID:5723-1695513600-1695599999@methodist.org.za
SUMMARY:Proper 21
DESCRIPTION:First OT reading: \nExodus 16:2-15 and\nPsalm 105:1-6\, 37-45 \nAlternate OT reading: \nJonah 3:10-4:11\nand Psalm 145:1-8\nPhilippians 1:21-30 \nMatthew 20:1-16 \nLiturgical\nColour: Green \n  \n 
URL:https://methodist.org.za/index.php/event/proper-21/
LOCATION:MCSA
END:VEVENT
BEGIN:VEVENT
DTSTART;VALUE=DATE:20230920
DTEND;VALUE=DATE:20230924
DTSTAMP:20260421T130921
CREATED:20230921T193301Z
LAST-MODIFIED:20230921T193436Z
UID:5725-1695168000-1695513599@methodist.org.za
SUMMARY:MCSA Annual Conference Kumkani Hinsa
DESCRIPTION:Watch Live on YouTube : https://www.youtube.com/@themethodistchurchofsouthe8746 \nFollow us on Facebook: https://www.facebook.com/MethChurch \nDownload Conference Documents: https://methodist.org.za/?page_id=5676
URL:https://methodist.org.za/index.php/event/mcsa-annual-conference-kumkani-hinsa/
END:VEVENT
BEGIN:VEVENT
DTSTART;VALUE=DATE:20230901
DTEND;VALUE=DATE:20230904
DTSTAMP:20260421T130921
CREATED:20230808T205426Z
LAST-MODIFIED:20230808T205426Z
UID:5663-1693526400-1693785599@methodist.org.za
SUMMARY:Connexional Youth Leadership Academy
DESCRIPTION:
URL:https://methodist.org.za/index.php/event/connexional-youth-leadership-academy/
LOCATION:Virtual
END:VEVENT
BEGIN:VEVENT
DTSTART;VALUE=DATE:20230831
DTEND;VALUE=DATE:20230904
DTSTAMP:20260421T130921
CREATED:20230808T205353Z
LAST-MODIFIED:20230808T205353Z
UID:5660-1693440000-1693785599@methodist.org.za
SUMMARY:Women’s Manyano CCS Workshop Venue
DESCRIPTION:
URL:https://methodist.org.za/index.php/event/womens-manyano-ccs-workshop-venue/
LOCATION:Central District
END:VEVENT
BEGIN:VEVENT
DTSTART;VALUE=DATE:20230830
DTEND;VALUE=DATE:20230831
DTSTAMP:20260421T130921
CREATED:20230808T205302Z
LAST-MODIFIED:20230808T205302Z
UID:5658-1693353600-1693439999@methodist.org.za
SUMMARY:Mission Coordinators Meeting
DESCRIPTION:
URL:https://methodist.org.za/index.php/event/mission-coordinators-meeting/
END:VEVENT
BEGIN:VEVENT
DTSTART;VALUE=DATE:20230821
DTEND;VALUE=DATE:20230826
DTSTAMP:20260421T130921
CREATED:20230808T205206Z
LAST-MODIFIED:20230808T205238Z
UID:5653-1692576000-1693007999@methodist.org.za
SUMMARY:New Superintendents Training- EMMU
DESCRIPTION:
URL:https://methodist.org.za/index.php/event/new-superintendents-training-emm/
LOCATION:eMseni
END:VEVENT
BEGIN:VEVENT
DTSTART;VALUE=DATE:20230819
DTEND;VALUE=DATE:20230821
DTSTAMP:20260421T130921
CREATED:20230808T205035Z
LAST-MODIFIED:20230808T205035Z
UID:5650-1692403200-1692575999@methodist.org.za
SUMMARY:Connexional Women’s Fellowship Leadership Seminar and  Gospel Music Extravaganza – (Woman’s Month Celebration)
DESCRIPTION:
URL:https://methodist.org.za/index.php/event/connexional-womens-fellowship-leadership-seminar-and-gospel-music-extravaganza-womans-month-celebration/
LOCATION:Hybrid – Central  District
END:VEVENT
BEGIN:VEVENT
DTSTART;VALUE=DATE:20230818
DTEND;VALUE=DATE:20230819
DTSTAMP:20260421T130921
CREATED:20230808T204943Z
LAST-MODIFIED:20230808T204943Z
UID:5648-1692316800-1692403199@methodist.org.za
SUMMARY:SMMS Board Meeting
DESCRIPTION:
URL:https://methodist.org.za/index.php/event/smms-board-meeting/
LOCATION:Virtual
END:VEVENT
BEGIN:VEVENT
DTSTART;VALUE=DATE:20230817
DTEND;VALUE=DATE:20230818
DTSTAMP:20260421T130921
CREATED:20230808T204903Z
LAST-MODIFIED:20230808T204903Z
UID:5646-1692230400-1692316799@methodist.org.za
SUMMARY:Connexional Trust Properties Meeting
DESCRIPTION:
URL:https://methodist.org.za/index.php/event/connexional-trust-properties-meeting/
LOCATION:Virtual
END:VEVENT
BEGIN:VEVENT
DTSTART;VALUE=DATE:20230816
DTEND;VALUE=DATE:20230817
DTSTAMP:20260421T130921
CREATED:20230808T204837Z
LAST-MODIFIED:20230808T204837Z
UID:5644-1692144000-1692230399@methodist.org.za
SUMMARY:LGBTIQA Task Team Meeting
DESCRIPTION:
URL:https://methodist.org.za/index.php/event/lgbtiqa-task-team-meeting/
LOCATION:Virtual
END:VEVENT
BEGIN:VEVENT
DTSTART;VALUE=DATE:20230816
DTEND;VALUE=DATE:20230817
DTSTAMP:20260421T130921
CREATED:20230808T204803Z
LAST-MODIFIED:20230808T204803Z
UID:5641-1692144000-1692230399@methodist.org.za
SUMMARY:Natal Coastal District Boundaries
DESCRIPTION:
URL:https://methodist.org.za/index.php/event/natal-coastal-district-boundaries/
LOCATION:Durban
END:VEVENT
BEGIN:VEVENT
DTSTART;VALUE=DATE:20230815
DTEND;VALUE=DATE:20230818
DTSTAMP:20260421T130921
CREATED:20230808T204605Z
LAST-MODIFIED:20230808T204605Z
UID:5635-1692057600-1692316799@methodist.org.za
SUMMARY:Food Security Summit – Mission Unit
DESCRIPTION:
URL:https://methodist.org.za/index.php/event/food-security-summit-mission-unit/
LOCATION:Tbc
END:VEVENT
BEGIN:VEVENT
DTSTART;VALUE=DATE:20230815
DTEND;VALUE=DATE:20230816
DTSTAMP:20260421T130921
CREATED:20230808T204644Z
LAST-MODIFIED:20230808T204655Z
UID:5638-1692057600-1692143999@methodist.org.za
SUMMARY:Natal West District Boundaries
DESCRIPTION:
URL:https://methodist.org.za/index.php/event/natal-west-district-boundaries/
LOCATION:PMB
END:VEVENT
BEGIN:VEVENT
DTSTART;VALUE=DATE:20230813
DTEND;VALUE=DATE:20230814
DTSTAMP:20260421T130921
CREATED:20230808T205934Z
LAST-MODIFIED:20230808T205953Z
UID:5665-1691884800-1691971199@methodist.org.za
SUMMARY:Proper 15
DESCRIPTION:Liturgical\nColour: White \nFirst OT reading :Genesis 37:1-4\, 12-28 and Psalm 105:1-6\, 16-22\, 45b -1 \nAlternate OT reading: Kings 19:9-18 and Psalm 85:8-13 \nRomans 10:5-15 Matthew 14:22-33
URL:https://methodist.org.za/index.php/event/proper-15/
LOCATION:Virtual
END:VEVENT
BEGIN:VEVENT
DTSTART;VALUE=DATE:20230811
DTEND;VALUE=DATE:20230812
DTSTAMP:20260421T130921
CREATED:20230808T203854Z
LAST-MODIFIED:20230808T203854Z
UID:5633-1691712000-1691798399@methodist.org.za
SUMMARY:Connexional Methsoc Retreat
DESCRIPTION:
URL:https://methodist.org.za/index.php/event/connexional-methsoc-retreat/
LOCATION:Virtual
END:VEVENT
BEGIN:VEVENT
DTSTART;VALUE=DATE:20230810
DTEND;VALUE=DATE:20230811
DTSTAMP:20260421T130921
CREATED:20230808T203817Z
LAST-MODIFIED:20230808T203817Z
UID:5630-1691625600-1691711999@methodist.org.za
SUMMARY:Mission Unit – Childcare Desk Support Committee Meeting
DESCRIPTION:
URL:https://methodist.org.za/index.php/event/mission-unit-childcare-desk-support-committee-meeting/
LOCATION:KwaZulu Natal  region
END:VEVENT
END:VCALENDAR